BEGIN:VCALENDAR
VERSION:2.0
PRODID:-//Tigerlily Foundation - ECPv6.15.20//NONSGML v1.0//EN
CALSCALE:GREGORIAN
METHOD:PUBLISH
X-ORIGINAL-URL:https://tigerlilyfoundation.org
X-WR-CALDESC:Events for Tigerlily Foundation
REFRESH-INTERVAL;VALUE=DURATION:PT1H
X-Robots-Tag:noindex
X-PUBLISHED-TTL:PT1H
BEGIN:VTIMEZONE
TZID:America/New_York
BEGIN:DAYLIGHT
TZOFFSETFROM:-0500
TZOFFSETTO:-0400
TZNAME:EDT
DTSTART:20230312T070000
END:DAYLIGHT
BEGIN:STANDARD
TZOFFSETFROM:-0400
TZOFFSETTO:-0500
TZNAME:EST
DTSTART:20231105T060000
END:STANDARD
BEGIN:DAYLIGHT
TZOFFSETFROM:-0500
TZOFFSETTO:-0400
TZNAME:EDT
DTSTART:20240310T070000
END:DAYLIGHT
BEGIN:STANDARD
TZOFFSETFROM:-0400
TZOFFSETTO:-0500
TZNAME:EST
DTSTART:20241103T060000
END:STANDARD
BEGIN:DAYLIGHT
TZOFFSETFROM:-0500
TZOFFSETTO:-0400
TZNAME:EDT
DTSTART:20250309T070000
END:DAYLIGHT
BEGIN:STANDARD
TZOFFSETFROM:-0400
TZOFFSETTO:-0500
TZNAME:EST
DTSTART:20251102T060000
END:STANDARD
END:VTIMEZONE
BEGIN:VEVENT
DTSTART;TZID=America/New_York:20240420T083000
DTEND;TZID=America/New_York:20240420T160000
DTSTAMP:20260424T002659
CREATED:20240408T194714Z
LAST-MODIFIED:20240408T195537Z
UID:10000235-1713601800-1713628800@tigerlilyfoundation.org
SUMMARY:Thriving Together: 2024 Conference on Metastatic Breast Cancer
DESCRIPTION:Saturday\, April 20\, 2024\nHilton Philadelphia at Penn’s Landing\n8:30 AM – 4 PM EDT\nCome meet our team and local ANGEL Advocates at our booth to learn more about Tigerlily’s educational tools on health literacy\, MBC resources\, and comprehensive training and access to health services and resources for people of color. \nLet’s come together for the #UnstoppableANGELTour!
URL:https://tigerlilyfoundation.org/event/thriving-together-2024/
LOCATION:Hilton Philadelphia at Penn’s Landing\, 201 S Christopher Columbus Blvd\, Philadelphia\, PA\, 19106\, United States
CATEGORIES:Event,UNSTOPPABLE: The ANGEL Tour
ATTACH;FMTTYPE=image/jpeg:https://tigerlilyfoundation.org/wp-content/uploads/2024/04/2245958_PhillyANGELTourGraphic_temp-thumb.jpg
END:VEVENT
END:VCALENDAR