BEGIN:VCALENDAR
VERSION:2.0
PRODID:-//Tigerlily Foundation - ECPv6.15.20//NONSGML v1.0//EN
CALSCALE:GREGORIAN
METHOD:PUBLISH
X-WR-CALNAME:Tigerlily Foundation
X-ORIGINAL-URL:https://tigerlilyfoundation.org
X-WR-CALDESC:Events for Tigerlily Foundation
REFRESH-INTERVAL;VALUE=DURATION:PT1H
X-Robots-Tag:noindex
X-PUBLISHED-TTL:PT1H
BEGIN:VTIMEZONE
TZID:America/New_York
BEGIN:DAYLIGHT
TZOFFSETFROM:-0500
TZOFFSETTO:-0400
TZNAME:EDT
DTSTART:20220313T070000
END:DAYLIGHT
BEGIN:STANDARD
TZOFFSETFROM:-0400
TZOFFSETTO:-0500
TZNAME:EST
DTSTART:20221106T060000
END:STANDARD
BEGIN:DAYLIGHT
TZOFFSETFROM:-0500
TZOFFSETTO:-0400
TZNAME:EDT
DTSTART:20230312T070000
END:DAYLIGHT
BEGIN:STANDARD
TZOFFSETFROM:-0400
TZOFFSETTO:-0500
TZNAME:EST
DTSTART:20231105T060000
END:STANDARD
BEGIN:DAYLIGHT
TZOFFSETFROM:-0500
TZOFFSETTO:-0400
TZNAME:EDT
DTSTART:20240310T070000
END:DAYLIGHT
BEGIN:STANDARD
TZOFFSETFROM:-0400
TZOFFSETTO:-0500
TZNAME:EST
DTSTART:20241103T060000
END:STANDARD
END:VTIMEZONE
BEGIN:VEVENT
DTSTART;TZID=America/New_York:20230614T200000
DTEND;TZID=America/New_York:20230614T210000
DTSTAMP:20260421T090950
CREATED:20230609T020003Z
LAST-MODIFIED:20230609T020003Z
UID:10000213-1686772800-1686776400@tigerlilyfoundation.org
SUMMARY:#TLCTransform Twitter chat on Understanding Biomarker Testing
DESCRIPTION:Join Tigerlily Foundation and a panel of patient experts on June 14\, 8pm EST for a #TLCTransform Twitter chat on Understanding Biomarker Testing. Follow the conversation by following us on twitter!  \nFollow our twitter here: https://twitter.com/tigerlilycares
URL:https://tigerlilyfoundation.org/event/tlctransform-twitter-chat-on-understanding-biomarker-testing/
CATEGORIES:#TLCTransform,Event
ATTACH;FMTTYPE=:
END:VEVENT
END:VCALENDAR