BEGIN:VCALENDAR
VERSION:2.0
PRODID:-//Tigerlily Foundation - ECPv6.15.20//NONSGML v1.0//EN
CALSCALE:GREGORIAN
METHOD:PUBLISH
X-WR-CALNAME:Tigerlily Foundation
X-ORIGINAL-URL:https://tigerlilyfoundation.org
X-WR-CALDESC:Events for Tigerlily Foundation
REFRESH-INTERVAL;VALUE=DURATION:PT1H
X-Robots-Tag:noindex
X-PUBLISHED-TTL:PT1H
BEGIN:VTIMEZONE
TZID:America/New_York
BEGIN:DAYLIGHT
TZOFFSETFROM:-0500
TZOFFSETTO:-0400
TZNAME:EDT
DTSTART:20140309T070000
END:DAYLIGHT
BEGIN:STANDARD
TZOFFSETFROM:-0400
TZOFFSETTO:-0500
TZNAME:EST
DTSTART:20141102T060000
END:STANDARD
BEGIN:DAYLIGHT
TZOFFSETFROM:-0500
TZOFFSETTO:-0400
TZNAME:EDT
DTSTART:20150308T070000
END:DAYLIGHT
BEGIN:STANDARD
TZOFFSETFROM:-0400
TZOFFSETTO:-0500
TZNAME:EST
DTSTART:20151101T060000
END:STANDARD
BEGIN:DAYLIGHT
TZOFFSETFROM:-0500
TZOFFSETTO:-0400
TZNAME:EDT
DTSTART:20160313T070000
END:DAYLIGHT
BEGIN:STANDARD
TZOFFSETFROM:-0400
TZOFFSETTO:-0500
TZNAME:EST
DTSTART:20161106T060000
END:STANDARD
BEGIN:DAYLIGHT
TZOFFSETFROM:-0500
TZOFFSETTO:-0400
TZNAME:EDT
DTSTART:20170312T070000
END:DAYLIGHT
BEGIN:STANDARD
TZOFFSETFROM:-0400
TZOFFSETTO:-0500
TZNAME:EST
DTSTART:20171105T060000
END:STANDARD
BEGIN:DAYLIGHT
TZOFFSETFROM:-0500
TZOFFSETTO:-0400
TZNAME:EDT
DTSTART:20180311T070000
END:DAYLIGHT
BEGIN:STANDARD
TZOFFSETFROM:-0400
TZOFFSETTO:-0500
TZNAME:EST
DTSTART:20181104T060000
END:STANDARD
BEGIN:DAYLIGHT
TZOFFSETFROM:-0500
TZOFFSETTO:-0400
TZNAME:EDT
DTSTART:20190310T070000
END:DAYLIGHT
BEGIN:STANDARD
TZOFFSETFROM:-0400
TZOFFSETTO:-0500
TZNAME:EST
DTSTART:20191103T060000
END:STANDARD
BEGIN:DAYLIGHT
TZOFFSETFROM:-0500
TZOFFSETTO:-0400
TZNAME:EDT
DTSTART:20200308T070000
END:DAYLIGHT
BEGIN:STANDARD
TZOFFSETFROM:-0400
TZOFFSETTO:-0500
TZNAME:EST
DTSTART:20201101T060000
END:STANDARD
BEGIN:DAYLIGHT
TZOFFSETFROM:-0500
TZOFFSETTO:-0400
TZNAME:EDT
DTSTART:20210314T070000
END:DAYLIGHT
BEGIN:STANDARD
TZOFFSETFROM:-0400
TZOFFSETTO:-0500
TZNAME:EST
DTSTART:20211107T060000
END:STANDARD
BEGIN:DAYLIGHT
TZOFFSETFROM:-0500
TZOFFSETTO:-0400
TZNAME:EDT
DTSTART:20220313T070000
END:DAYLIGHT
BEGIN:STANDARD
TZOFFSETFROM:-0400
TZOFFSETTO:-0500
TZNAME:EST
DTSTART:20221106T060000
END:STANDARD
END:VTIMEZONE
BEGIN:VEVENT
DTSTART;VALUE=DATE:20171001
DTEND;VALUE=DATE:20180401
DTSTAMP:20260421T125938
CREATED:20211008T162717Z
LAST-MODIFIED:20211008T162717Z
UID:10000024-1506816000-1522540799@tigerlilyfoundation.org
SUMMARY:BEAUTIFUL SURVIVOR ART PRINTS\, APPAREL AND ACCESSORIES BY AMANDA HARD
DESCRIPTION:Check out the link to the Beautiful Survivor Collection online! A portion of the proceeds will be donated to Tigerlily Foundation to support programs and events! \nwww.penny-prints.com \nA message from the artist:                                   \n \nMy name is Amanda Hard and I am a local artist based out of Maine. I create empowering paintings of abstract women\, to uplift and bring self-empowerment. “Beautiful Survivor “ was created in honor of my dear friend Leigh\, who was diagnosed with stage III triple-negative breast cancer (TNBC). “Beautiful Survivor” was created to commemorate and honor the many women out there who have been diagnosed and are facing this difficult journey. With Her\, I hope to bring awareness to the challenges life brings\, during and after fighting. I hope to help\, and support these courageous women who are going through this uphill battle. Tigerlily Foundation is a strong\, empowering\, supportive foundation for young women and a perfect partnership with the message of my “Beautiful Survivor” artwork. Always remember\, my Beautiful Survivors\, you are strong\, bold\, and beautiful!! \n**proceeds from Beautiful Survivor Art Prints\, Apparel\, and Accessories will be donated to Tigerlily Foundation. \n  \n\n\n                    \n                        \n                        \n                    \n\n        \n        \nAs part of the People v. Cancer series\, The Atlantic will illuminate stories from the frontlines of the cancer community\, confronting two challenges this fall — cancer and COVID. We’ll explore the latest science and the power of the human experience.\n \nJoin our Founder Maimah Karmo at 1 pm EST on October 29th\, 2020.\n \n\n\n\n\n\nAmgen Presents: The Cost of Color – Addressing Health Disparities in Cancer Care \n\n\n\n\n\n\n\n\nProduced by our underwriter and not The Atlantic’s editorial team. \nChristophe Bourdon\, Senior Vice President and General Manager\, US Oncology Business\, AmgenMaimah Karmo\, Founder and CEO\, Tigerlily Foundation \nRegister here button. Link: https://peoplevcancervcovid.theatlantic.com/
URL:https://tigerlilyfoundation.org/event/beautiful-survivor-art-prints-apparel-and-accessories-by-amanda-hard/
CATEGORIES:Past Events
END:VEVENT
BEGIN:VEVENT
DTSTART;TZID=America/New_York:20161206T120000
DTEND;TZID=America/New_York:20161206T233000
DTSTAMP:20260421T125938
CREATED:20211015T145656Z
LAST-MODIFIED:20211015T145656Z
UID:10000075-1481025600-1481067000@tigerlilyfoundation.org
SUMMARY:YOUNG WOMEN’S BREAST HEALTH DAY ON THE HILL 2016
DESCRIPTION:As part of the People v. Cancer series\, The Atlantic will illuminate stories from the frontlines of the cancer community\, confronting two challenges this fall — cancer and COVID. We’ll explore the latest science and the power of the human experience.\n \nJoin our Founder Maimah Karmo at 1 pm EST on October 29th\, 2020.\n \n\n\n\n\n\nAmgen Presents: The Cost of Color – Addressing Health Disparities in Cancer Care \n\n\n\n\n\n\n\n\nProduced by our underwriter and not The Atlantic’s editorial team. \nChristophe Bourdon\, Senior Vice President and General Manager\, US Oncology Business\, AmgenMaimah Karmo\, Founder and CEO\, Tigerlily Foundation \nRegister here button. Link: https://peoplevcancervcovid.theatlantic.com/
URL:https://tigerlilyfoundation.org/event/young-womens-breast-health-day-on-the-hill-2016/
CATEGORIES:Past Events
END:VEVENT
BEGIN:VEVENT
DTSTART;TZID=America/New_York:20161111T183000
DTEND;TZID=America/New_York:20161111T220000
DTSTAMP:20260421T125938
CREATED:20211015T152532Z
LAST-MODIFIED:20211015T152532Z
UID:10000076-1478889000-1478901600@tigerlilyfoundation.org
SUMMARY:EMPOWER BALL
DESCRIPTION:As part of the People v. Cancer series\, The Atlantic will illuminate stories from the frontlines of the cancer community\, confronting two challenges this fall — cancer and COVID. We’ll explore the latest science and the power of the human experience.\n \nJoin our Founder Maimah Karmo at 1 pm EST on October 29th\, 2020.\n \n\n\n\n\n\nAmgen Presents: The Cost of Color – Addressing Health Disparities in Cancer Care \n\n\n\n\n\n\n\n\nProduced by our underwriter and not The Atlantic’s editorial team. \nChristophe Bourdon\, Senior Vice President and General Manager\, US Oncology Business\, AmgenMaimah Karmo\, Founder and CEO\, Tigerlily Foundation \nRegister here button. Link: https://peoplevcancervcovid.theatlantic.com/
URL:https://tigerlilyfoundation.org/event/empower-ball/
CATEGORIES:Past Events
END:VEVENT
BEGIN:VEVENT
DTSTART;TZID=America/New_York:20160618T160000
DTEND;TZID=America/New_York:20211015T200000
DTSTAMP:20260421T125938
CREATED:20211015T140136Z
LAST-MODIFIED:20211015T140136Z
UID:10000074-1466265600-1634328000@tigerlilyfoundation.org
SUMMARY:PAJAMA GLAM PARTY
DESCRIPTION:As part of the People v. Cancer series\, The Atlantic will illuminate stories from the frontlines of the cancer community\, confronting two challenges this fall — cancer and COVID. We’ll explore the latest science and the power of the human experience.\n \nJoin our Founder Maimah Karmo at 1 pm EST on October 29th\, 2020.\n \n\n\n\n\n\nAmgen Presents: The Cost of Color – Addressing Health Disparities in Cancer Care \n\n\n\n\n\n\n\n\nProduced by our underwriter and not The Atlantic’s editorial team. \nChristophe Bourdon\, Senior Vice President and General Manager\, US Oncology Business\, AmgenMaimah Karmo\, Founder and CEO\, Tigerlily Foundation \nRegister here button. Link: https://peoplevcancervcovid.theatlantic.com/
URL:https://tigerlilyfoundation.org/event/pajama-glam-party/
CATEGORIES:Past Events
END:VEVENT
BEGIN:VEVENT
DTSTART;TZID=America/New_York:20150617T120000
DTEND;TZID=America/New_York:20150617T150000
DTSTAMP:20260421T125938
CREATED:20211015T154531Z
LAST-MODIFIED:20211015T154531Z
UID:10000078-1434542400-1434553200@tigerlilyfoundation.org
SUMMARY:YOUNG WOMEN’S BREAST HEALTH DAY ON THE HILL 2015
DESCRIPTION:As part of the People v. Cancer series\, The Atlantic will illuminate stories from the frontlines of the cancer community\, confronting two challenges this fall — cancer and COVID. We’ll explore the latest science and the power of the human experience.\n \nJoin our Founder Maimah Karmo at 1 pm EST on October 29th\, 2020.\n \n\n\n\n\n\nAmgen Presents: The Cost of Color – Addressing Health Disparities in Cancer Care \n\n\n\n\n\n\n\n\nProduced by our underwriter and not The Atlantic’s editorial team. \nChristophe Bourdon\, Senior Vice President and General Manager\, US Oncology Business\, AmgenMaimah Karmo\, Founder and CEO\, Tigerlily Foundation \nRegister here button. Link: https://peoplevcancervcovid.theatlantic.com/
URL:https://tigerlilyfoundation.org/event/young-womens-breast-health-day-on-the-hill-2015/
CATEGORIES:Past Events
END:VEVENT
END:VCALENDAR