BEGIN:VCALENDAR
VERSION:2.0
PRODID:-//Tigerlily Foundation - ECPv6.15.20//NONSGML v1.0//EN
CALSCALE:GREGORIAN
METHOD:PUBLISH
X-WR-CALNAME:Tigerlily Foundation
X-ORIGINAL-URL:https://tigerlilyfoundation.org
X-WR-CALDESC:Events for Tigerlily Foundation
REFRESH-INTERVAL;VALUE=DURATION:PT1H
X-Robots-Tag:noindex
X-PUBLISHED-TTL:PT1H
BEGIN:VTIMEZONE
TZID:America/New_York
BEGIN:DAYLIGHT
TZOFFSETFROM:-0500
TZOFFSETTO:-0400
TZNAME:EDT
DTSTART:20220313T070000
END:DAYLIGHT
BEGIN:STANDARD
TZOFFSETFROM:-0400
TZOFFSETTO:-0500
TZNAME:EST
DTSTART:20221106T060000
END:STANDARD
BEGIN:DAYLIGHT
TZOFFSETFROM:-0500
TZOFFSETTO:-0400
TZNAME:EDT
DTSTART:20230312T070000
END:DAYLIGHT
BEGIN:STANDARD
TZOFFSETFROM:-0400
TZOFFSETTO:-0500
TZNAME:EST
DTSTART:20231105T060000
END:STANDARD
BEGIN:DAYLIGHT
TZOFFSETFROM:-0500
TZOFFSETTO:-0400
TZNAME:EDT
DTSTART:20240310T070000
END:DAYLIGHT
BEGIN:STANDARD
TZOFFSETFROM:-0400
TZOFFSETTO:-0500
TZNAME:EST
DTSTART:20241103T060000
END:STANDARD
END:VTIMEZONE
BEGIN:VEVENT
DTSTART;TZID=America/New_York:20230326T130000
DTEND;TZID=America/New_York:20230326T170000
DTSTAMP:20260422T082152
CREATED:20221031T211942Z
LAST-MODIFIED:20221031T211942Z
UID:10000205-1679835600-1679850000@tigerlilyfoundation.org
SUMMARY:Pajama Glam - Health\, Wellness\, Bling & Sparkle
DESCRIPTION:Pajama Glam – Health\, Wellness\, Bling & Sparkle\nBrought to you by Tigerlily Foundation\nHyatt Regency Tysons Corner\, 7901 Tysons One Place\, Tysons Corner\, VA \nAttire: Chic & Stylish Red\, Pink or Purple Pajamas. BLING REQUIRED! \n\n\n                    \n                        \n                        \n                    \n\n            Pajama Glam 2023 Highlights Video        \n            \n                                    \n                                \n            \n        \n        \n            \n        \n                        \n        \n                        \n                        \n                        \n                    \n\n        \n        Tigerlily Foundation is pleased to present its Pajama Glam Party\, which invites women and girls of all ages to dress in their favorite pajamas and celebrate their “fabulousness”\, while learning about breast health\, wellness and prevention. Guests will enjoy a glamorous lineup of activities including music\, sneak preview movie screening\, fun crafts\, sweet treat stations\, wellness activities\, and much more. The event was originated by Tigerlily Foundation Founder & CEO\, Maimah Karmo\, and her then 10-year-old daughter Noelle Karmo\, who wanted to design an event to attract and educate young girls about their breast and body health.     \n\n        \n                    \n                    \n\n        \n                \n        \n    \n    \n        \n        \n                        \n        \n                        \n                        \n                        \n                    \n\n        \n                        \n                                                CLICK TO BUY TICKETS                                        \n                \n                    \n                        \n                                                Check out videos from other Pajama Glam Parties!                                         \n                \n            \n\n\n\n        \n        Thank you to our generous sponsors!\nTigerlily’s Pajama Glam educates young girls about breast & body health\, while enjoying music\, fun activities\, sweet treats\, and much more! Join us on March 26th to walk the pink carpet to your Passport to a Healthy Lifestyle through:      \n\n        \n                \n                    \n\n        \n        \nCreative crafts and activities\n3D Photobooth\nFace painter\nBalloon twister\nBubble-ologist\nDancing and music with DJ Heat\nYoga Demonstration\nZumba Demonstration \n    \n\n        \n                    \n                    \n\n        \n        \nFlower Bouquet Bar\nDecadent candy bar\nPopcorn station\nPetit sandwiches\nFruit kabobs\nFabulous mocktails\nSwag Bags\n    \n\n        \n                    \n                \n                \n                    \n\n        \n        Special Guests    \n\n        \n                    \n                \n                \n                    \n\n        \n                \n        \n    \n    \n        \n                    \n                                    Kristen Berset Harris                            \n                        \n            MC of Pajama Glam & Great Day Washington Host on WUSA9        \n        \n            \n    \n        \n        \n                    \n                    \n\n        \n                \n        \n    \n    \n        \n                    \n                                    Asia Hickman                            \n                        \n            Miss District of Columbia Teen USA 2022        \n        \n            \n    \n        \n        \n                    \n                    \n\n        \n                \n        \n    \n    \n        \n                    \n                                    Derek Burns                            \n                        \n            Fitness Expert\, The Afterburns        \n        \n            \n    \n        \n        \n                    \n                    \n\n        \n                \n        \n    \n    \n        \n                    \n                                    Faith Maria Porter                            \n                        \n            Miss District of Columbia USA 2022        \n        \n            \n    \n        \n        \n                    \n        \n\n    \n\n\n        \n        \n\n \n    \n\n        \n                        \n        \n                        \n                        \n                        \n                    \n\n        \n                \n        \n    \n    \n        \n                    \n                                    Come see a Sneak Preview Movie Screening at Pajama Glam!                             \n                        \n            BET Her and Tressa Smallwood of MegaMind Media came together to produce Oh Baby Baby!\, co-written by Maimah Karmo\, Tigerlily Foundation CEO & Founder\, and Maggy Francois\, Marketing and Casting Director\, and directed by Tichina Arnold. You don’t want to miss this!\n        \n        \n            \n    \n        \n        \n                        \n        \n                        \n                        \n                        \n                    \n\n        \n                        \n                                                CLICK TO BUY TICKETS                                        \n                \n            \n\n\n\n        \n                        \n                                                                            DOWNLOAD TLF Photo Waiver
URL:https://tigerlilyfoundation.org/event/pajama-glam-health-wellness-bling-sparkle/
CATEGORIES:Event,Pajama Glam
ATTACH;FMTTYPE=:
END:VEVENT
END:VCALENDAR